BEGIN:VCALENDAR
VERSION:2.0
CALSCALE:GREGORIAN
PRODID:adamgibbons/ics
METHOD:PUBLISH
X-PUBLISHED-TTL:PT1H
BEGIN:VEVENT
UID:regenwassertagetue-jun-23-2026-04-00-00-gmt-0000-coordinated-universal-
	time
SUMMARY:RegenwasserTage
DTSTAMP:20260421T074653Z
DTSTART:20260623T040000Z
DTEND:20260624T040000Z
DESCRIPTION:RegenwasserTage
END:VEVENT
END:VCALENDAR
